BEGIN:VCALENDAR
VERSION:2.0
PRODID:-//Serviço de Comunicação e Eventos - ECPv6.15.20//NONSGML v1.0//EN
CALSCALE:GREGORIAN
METHOD:PUBLISH
X-WR-CALNAME:Serviço de Comunicação e Eventos
X-ORIGINAL-URL:https://comunica.fmvz.usp.br
X-WR-CALDESC:Eventos para Serviço de Comunicação e Eventos
REFRESH-INTERVAL;VALUE=DURATION:PT1H
X-Robots-Tag:noindex
X-PUBLISHED-TTL:PT1H
BEGIN:VTIMEZONE
TZID:America/Sao_Paulo
BEGIN:STANDARD
TZOFFSETFROM:-0300
TZOFFSETTO:-0300
TZNAME:-03
DTSTART:20240101T000000
END:STANDARD
END:VTIMEZONE
BEGIN:VEVENT
DTSTART;VALUE=DATE:20250623
DTEND;VALUE=DATE:20250702
DTSTAMP:20260422T232240
CREATED:20250523T141634Z
LAST-MODIFIED:20250523T141634Z
UID:21802-1750636800-1751414399@comunica.fmvz.usp.br
SUMMARY:1º Curso Neurologia Veterinária Geral - Bases para a Prática Clínica de Amplas Áreas
DESCRIPTION:Inscrições em breve \nDepartamento de Cursos do CAMRN em parceria com a @lanvet.usp traz a primeira edição do curso Neurologia Veterinária Geral: Bases Para a Prática Clínica de Amplas Áreas\, que será oferecido de modo online e síncrono\, nos dias 23\, 24\, 30 de Junho e 01 de Julho! \nProgramação:\n23/6/25 \n19h30: Passo a Passo do Exame Neurológico – Profa. Dra. Maria Cláudia Inglez \n21h: Princípios de neuroanatomia funcional aplicada à localização e raciocínio clínico – Profa. Dra. Maria Cláudia Inglez \n24/6/25 \n19h30: Radiografia\, tomografia e ressonância magnética – M.V. Me. Thais Marques Granato \n21h: Líquido cerebroespinhal e outros exames laboratoriais – M.V. Me. Elídia Zotelli \n30/6/25 \n19h30: Afecções do disco intervertebral – a confirmar \n21h: Outras afecções da coluna vertebral e medula espinhal (inflamatórias\, vasculares\, neoplásicas\, degenerativas) – Profa. Dra. Ayne M. Hayashyi \n1/7/25 \n19h30: Crises epilépticas e outros afecções cerebrais – M.V. Esp. Amanda Gomes \n21h: Afecções do sistema vestibular e cerebelar – a confirmar
URL:https://comunica.fmvz.usp.br/event/1o-curso-neurologia-veterinaria-geral-bases-para-a-pratica-clinica-de-amplas-areas/
LOCATION:On-line
CATEGORIES:curso
END:VEVENT
BEGIN:VEVENT
DTSTART;TZID=America/Sao_Paulo:20250726T080000
DTEND;TZID=America/Sao_Paulo:20250727T130000
DTSTAMP:20260422T232240
CREATED:20250507T123232Z
LAST-MODIFIED:20250507T123740Z
UID:21340-1753516800-1753621200@comunica.fmvz.usp.br
SUMMARY:Curso de Ventilação Mecânica FMVZ-USP
DESCRIPTION:Programação \nMódulo Teórico – Sábado (26/7) – 9h-18h \n\nIndicações da ventilação mecânica\nPrincipais aspectos fisiológicos para o entendimento da VM\nFuncionamento dos ventiladores\nModalidades ventilatórias\nLesão pulmonar e ventilação protetora\nManobras de recrutamento alveolar e PEEP\nSedação no paciente em VM\nHemodinâmica e VM\nMonitoração da VM\nMecânica ventilatória\n\nModulo Prático – Domingo (27/7) – 9h-13h – Vagas limitadas \n\nVentilação mecânica em cadáveres (modos ventilatórios\, recrutamento alveolar e e PEEP)\nInterpretação de gasometria arterial\nSimulador de ventilação mecânica\n\nData e hora: \n26/7 (sábado) teórico (presencial ou on-line) – 9h-18h \n27/7 (domingo) prático (presencial) – 9h-13h \nLocal: FMVZ/USP \nInvestimento: \nMódulo teórico: R$ 600\,00\nMódulo teórico-prático: R$ 1.400\,00 \nVALORES ESPECIAIS \nAlunos de graduação\nAlunos de pós-graduação FMVZ-USP \nPagamento: PIX\nHaverá opções de parcelamento \nLink para inscrição aqui. \nContato: cursosanestfmvzusp@gmail.com
URL:https://comunica.fmvz.usp.br/event/21340/
LOCATION:FMVZ USP
CATEGORIES:curso
ATTACH;FMTTYPE=image/jpeg:https://comunica.fmvz.usp.br/wp-content/uploads/sites/34/2025/05/ventilacao.jpg
END:VEVENT
END:VCALENDAR