BEGIN:VCALENDAR
VERSION:2.0
PRODID:-//Serviço de Comunicação e Eventos - ECPv6.15.20//NONSGML v1.0//EN
CALSCALE:GREGORIAN
METHOD:PUBLISH
X-WR-CALNAME:Serviço de Comunicação e Eventos
X-ORIGINAL-URL:https://comunica.fmvz.usp.br
X-WR-CALDESC:Eventos para Serviço de Comunicação e Eventos
REFRESH-INTERVAL;VALUE=DURATION:PT1H
X-Robots-Tag:noindex
X-PUBLISHED-TTL:PT1H
BEGIN:VTIMEZONE
TZID:America/Sao_Paulo
BEGIN:STANDARD
TZOFFSETFROM:-0300
TZOFFSETTO:-0300
TZNAME:-03
DTSTART:20250101T000000
END:STANDARD
END:VTIMEZONE
BEGIN:VEVENT
DTSTART;VALUE=DATE:20260328
DTEND;VALUE=DATE:20260403
DTSTAMP:20260424T063754
CREATED:20251215T173136Z
LAST-MODIFIED:20251215T173149Z
UID:24222-1774656000-1775174399@comunica.fmvz.usp.br
SUMMARY:35ª Semana Acadêmica de Medicina Veterinária - SACAVET
DESCRIPTION:
URL:https://comunica.fmvz.usp.br/event/35a-semana-academica-veterinaria-sacavet/
LOCATION:FMVZ-USP
CATEGORIES:semana acadêmica
END:VEVENT
END:VCALENDAR