BEGIN:VCALENDAR
VERSION:2.0
PRODID:-//Serviço de Comunicação e Eventos - ECPv6.15.20//NONSGML v1.0//EN
CALSCALE:GREGORIAN
METHOD:PUBLISH
X-WR-CALNAME:Serviço de Comunicação e Eventos
X-ORIGINAL-URL:https://comunica.fmvz.usp.br
X-WR-CALDESC:Eventos para Serviço de Comunicação e Eventos
REFRESH-INTERVAL;VALUE=DURATION:PT1H
X-Robots-Tag:noindex
X-PUBLISHED-TTL:PT1H
BEGIN:VTIMEZONE
TZID:America/Sao_Paulo
BEGIN:STANDARD
TZOFFSETFROM:-0300
TZOFFSETTO:-0300
TZNAME:-03
DTSTART:20240101T000000
END:STANDARD
END:VTIMEZONE
BEGIN:VEVENT
DTSTART;VALUE=DATE:20250512
DTEND;VALUE=DATE:20250518
DTSTAMP:20260425T234541
CREATED:20250509T144930Z
LAST-MODIFIED:20250509T144930Z
UID:21375-1747008000-1747526399@comunica.fmvz.usp.br
SUMMARY:Semana da Nutrição e Comportamento Felino
DESCRIPTION:*Somente para alunos FMVZ-USP* \nInscrições aqui.
URL:https://comunica.fmvz.usp.br/event/semana-da-nutricao-e-comportamento-felino/
LOCATION:FMVZ-USP
CATEGORIES:Semana
END:VEVENT
END:VCALENDAR